Workbook

Sheet State 1
B1: Defining the Cohort | H1: Child's LTFU Status (Followed, Active, Moved, Lost, Deceased)
D2: Question 1 | H2: Question 3a: Deaths during calendar year | I2: Question 3b: Moved | J2: Question 2: Status of Infants Living in Jurisdiction
D3: Q1a.1 | E3: Q1a.2 | H3: (Q3a.1)* | I3: (Q3b) | J3: Q2a | K3: Q2b | L3: Q2c (minimal plus)
B4: Birth Cohort | C4: Confirmed Diagnosis/ Disorder Category (Repeated for additional disorder groups ) | D4: Number of births in cohort with disorder | E4: Number of children who moved or died prior to the current follow-up year | F4: Calendar Year to Determine LTFU status | G4: Age during calendar year | H4: Number (%) known to have died in reporting year | I4: Number known to have moved out of jurisdiction during Calendar Year | J4: Number alive and known to be currently living in jurisdiction | K4: Number seen by a care team appropriate for the condition within the past 12 months | L4: Number receiving appropriate care (meeting condition-specific recommendations for care) in Calendar Year
B5: Births occuring in this calendar year | C5: Diagnosis as determined by HRSA Case Definitions (enter cases for the disorder/disorder group on the appropriate row; will be repeated or additional disorders) | D5: Definition: Number of infants born in the calendar year birth cohort who are known to have the condition; include cases missed on newborn screening that are known to the program | E5: Definition: Children who are known to not be followed in the program's jurisdiction due to an event (moving, death) in a prior year | F5: Reporting year | G5: Age range as of 12/31 in the evaluation year (range provided as a reminder of ages of children in this birth cohort) | H5: Definition: Number of Deaths that occurred in reporting year among the birth cohort | I5: Definition: Number of children that were recorded to have moved out of jurisdiction and are no longer being followed by clinical specialists in the jurisdiction. | K5: Definition: number of children who have had at least one contact with specialist (in person, telehealth) | L5: Definition: number of children seeing the appropriate specialist on the recommended cadence for care within the jurisdiction/jurisdiction. (e.g. quarterly visits for children with Cystic fibrosis); in some jurisdictions it may also include labs or procedures
B7: 2020 | C7: Metabolic Conditions | F7: 2025 | G7: 4 years - <5 years
B8: =B7+1 -> 2021 | C8: Metabolic Conditions | F8: 2025 | G8: 3 years - < 4 years
B9: =B8+1 -> 2022 | C9: Metabolic Conditions | F9: 2025 | G9: 2 years - <3 years
B10: =B9+1 -> 2023 | C10: Metabolic Conditions | F10: 2025 | G10: 1 year - <2 years
B11: =B10+1 -> 2024 | C11: Metabolic Conditions | F11: 2025 | G11: <1 year
B13: 2020 | C13: Congenital Adrenal Hyperplasia | F13: 2025 | G13: 4 years - <5 years
B14: =B13+1 -> 2021 | C14: Congenital Adrenal Hyperplasia | F14: 2025 | G14: 3 years - < 4 years
B15: =B14+1 -> 2022 | C15: Congenital Adrenal Hyperplasia | F15: 2025 | G15: 2 years - <3 years
B16: =B15+1 -> 2023 | C16: Congenital Adrenal Hyperplasia | F16: 2025 | G16: 1 year - <2 years
B17: =B16+1 -> 2024 | C17: Congenital Adrenal Hyperplasia | F17: 2025 | G17: <1 year
B19: 2020 | C19: Congenital Hypothyroidism | F19: 2025 | G19: 4 years - <5 years
B20: =B19+1 -> 2021 | C20: Congenital Hypothyroidism | F20: 2025 | G20: 3 years - < 4 years
B21: =B20+1 -> 2022 | C21: Congenital Hypothyroidism | F21: 2025 | G21: 2 years - <3 years
B22: =B21+1 -> 2023 | C22: Congenital Hypothyroidism | F22: 2025 | G22: 1 year - <2 years
B23: =B22+1 -> 2024 | C23: Congenital Hypothyroidism | F23: 2025 | G23: <1 year
B25: 2020 | C25: Hemoglobinopathies | F25: 2025 | G25: 4 years - <5 years
B26: =B25+1 -> 2021 | C26: Hemoglobinopathies | F26: 2025 | G26: 3 years - < 4 years
B27: =B26+1 -> 2022 | C27: Hemoglobinopathies | F27: 2025 | G27: 2 years - <3 years
B28: =B27+1 -> 2023 | C28: Hemoglobinopathies | F28: 2025 | G28: 1 year - <2 years
B29: =B28+1 -> 2024 | C29: Hemoglobinopathies | F29: 2025 | G29: <1 year
B31: 2020 | C31: Cystic Fibrosis | F31: 2025 | G31: 4 years - <5 years
B32: =B31+1 -> 2021 | C32: Cystic Fibrosis | F32: 2025 | G32: 3 years - < 4 years
B33: =B32+1 -> 2022 | C33: Cystic Fibrosis | F33: 2025 | G33: 2 years - <3 years
B34: =B33+1 -> 2023 | C34: Cystic Fibrosis | F34: 2025 | G34: 1 year - <2 years
B35: =B34+1 -> 2024 | C35: Cystic Fibrosis | F35: 2025 | G35: <1 year
B37: 2020 | C37: SCID | F37: 2025 | G37: 4 years - <5 years
B38: =B37+1 -> 2021 | C38: SCID | F38: 2025 | G38: 3 years - < 4 years
B39: =B38+1 -> 2022 | C39: SCID | F39: 2025 | G39: 2 years - <3 years
B40: =B39+1 -> 2023 | C40: SCID | F40: 2025 | G40: 1 year - <2 years
B41: =B40+1 -> 2024 | C41: SCID | F41: 2025 | G41: <1 year
B43: 2020 | C43: SMA | F43: 2025 | G43: 4 years - <5 years
B44: =B43+1 -> 2021 | C44: SMA | F44: 2025 | G44: 3 years - < 4 years
B45: =B44+1 -> 2022 | C45: SMA | F45: 2025 | G45: 2 years - <3 years
B46: =B45+1 -> 2023 | C46: SMA | F46: 2025 | G46: 1 year - <2 years
B47: =B46+1 -> 2024 | C47: SMA | F47: 2025 | G47: <1 year
B49: 2020 | C49: X ALD | F49: 2025 | G49: 4 years - <5 years
B50: =B49+1 -> 2021 | C50: X ALD | F50: 2025 | G50: 3 years - < 4 years
B51: =B50+1 -> 2022 | C51: X ALD | F51: 2025 | G51: 2 years - <3 years
B52: =B51+1 -> 2023 | C52: X ALD | F52: 2025 | G52: 1 year - <2 years
B53: =B52+1 -> 2024 | C53: X ALD | F53: 2025 | G53: <1 year
B55: 2020 | F55: 2025 | G55: 4 years - <5 years
B56: =B55+1 -> 2021 | F56: 2025 | G56: 3 years - < 4 years
B57: =B56+1 -> 2022 | F57: 2025 | G57: 2 years - <3 years
B58: =B57+1 -> 2023 | F58: 2025 | G58: 1 year - <2 years
B59: =B58+1 -> 2024 | F59: 2025 | G59: <1 year

Sheet LTFU Year End Metrics
B1: Birth Cohort | C1: Diagnosis as determined by Case Definitions | D1: Definition: Number of infants born in the calendar year birth cohort who are known to have the condition; include cases missed on newborn screening that are known to the program | E1: Definition: Children who are known to not be followed in the program's jurisdiction due to an event (moving, death) in a prior year | F1: Definition: Number of Deaths that occurred in reporting year among the birth cohort | I1: Children known to be alive and living in the jurisdiction/number of children in birth cohort with NBS disorder | J1: Definition: number of children who have had at least one contact with specialist (in person, telehealth) | L1: Children who have had at least one contact with specialist in 2022/number of children known to be alive and living in jurisdiction | M1: Definition: number of children seeing the appropriate specialist on the recommended cadence for care within the jurisdiction/jurisdiction. (e.g. quarterly visits for children with Cystic fibrosis); in some jurisdictions it may also include labs or procedures | O1: Children receiving appropriate care (meeting condition-specific recommendations for care)/number of children know to be alive and living in jurisdiction
B2: All Birth Cohorts | C2: All NBS Disorders Reported | D2: =SUM(D4:D8) -> #REF! | E2: =SUM(E4:E8) -> 0 | G2: =SUM(G4:G8) -> 0 | H2: =IF(G2<>0,G2/D2, "N/A") -> N/A | I2: =IF(G2<>0, _xlfn.CONCAT(G2,"/",D2,"(",TEXT(H2*100,"#.0"),"%",")"),"N/A") -> N/A | J2: =SUM(J4:J8) -> 0 | K2: =IF( J2<>0, J2/G2, "N/A") -> N/A | L2: =IF(G2<>0, _xlfn.CONCAT(J2,"/",G2,"(",TEXT(K2*100,"#.0"),"%",")"),"N/A") -> N/A | M2: =SUM(M4:M8) -> 0 | N2: =M2/G2 -> #DIV/0! | O2: =IF(M2<>0,_xlfn.CONCAT(M2,"/",G2,"(",TEXT(N2*100,"#.0"),"%",")"),"N/A") -> N/A
B4: 2020 | C4: All NBS Disorders Reported | D4: =SUM(D10,D16,D22,D28,D34,D40,D60) -> #REF! | E4: =SUM(E10,E16,E22,E28,E34,E40,E60) -> 0 | G4: =SUM(G10,G16,G22,G28,G34,G40,G60) -> 0 | H4: =IF(G4<>0,G4/D4, "N/A") -> N/A | I4: =IF(G4<>0, _xlfn.CONCAT(G4,"/",D4,"(",TEXT(H4*100,"#.0"),"%",")"),"N/A") -> N/A | J4: =SUM(J10,J16,J22,J28,J34,J40,J60) -> 0 | K4: =IF( J4<>0, J4/G4, "N/A") -> N/A | L4: =IF(G4<>0, _xlfn.CONCAT(J4,"/",G4,"(",TEXT(K4*100,"#.0"),"%",")"),"N/A") -> N/A | M4: =SUM(M10,M16,M22,M28,M34,M40,M60) -> 0 | N4: =IF(M4<>0,M4/G4,"N/A") -> N/A | O4: =IF(M4<>0,_xlfn.CONCAT(M4,"/",G4,"(",TEXT(N4*100,"#.0"),"%",")"),"N/A") -> N/A
B5: =B4+1 -> 2021 | C5: All NBS Disorders Reported | D5: =SUM(D11,D17,D23,D29,D35,D41,D61) -> 0 | E5: =SUM(E11,E17,E23,E29,E35,E41,E61) -> 0 | G5: =SUM(G11,G17,G23,G29,G35,G41,G61) -> 0 | H5: =IF(G5<>0,G5/D5, "N/A") -> N/A | I5: =IF(G5<>0, _xlfn.CONCAT(G5,"/",D5,"(",TEXT(H5*100,"#.0"),"%",")"),"N/A") -> N/A | J5: =SUM(J11,J17,J23,J29,J35,J41,J61) -> 0 | K5: =IF( J5<>0, J5/G5, "N/A") -> N/A | L5: =IF(G5<>0, _xlfn.CONCAT(J5,"/",G5,"(",TEXT(K5*100,"#.0"),"%",")"),"N/A") -> N/A | M5: =SUM(M11,M17,M23,M29,M35,M41,M61) -> 0 | N5: =IF(M5<>0,M5/G5,"N/A") -> N/A | O5: =IF(M5<>0,_xlfn.CONCAT(M5,"/",G5,"(",TEXT(N5*100,"#.0"),"%",")"),"N/A") -> N/A
B6: =B5+1 -> 2022 | C6: All NBS Disorders Reported | D6: =SUM(D12,D18,D24,D30,D36,D42,D62) -> 0 | E6: =SUM(E12,E18,E24,E30,E36,E42,E62) -> 0 | G6: =SUM(G12,G18,G24,G30,G36,G42,G62) -> 0 | H6: =IF(G6<>0,G6/D6, "N/A") -> N/A | I6: =IF(G6<>0, _xlfn.CONCAT(G6,"/",D6,"(",TEXT(H6*100,"#.0"),"%",")"),"N/A") -> N/A | J6: =SUM(J12,J18,J24,J30,J36,J42,J62) -> 0 | K6: =IF( J6<>0, J6/G6, "N/A") -> N/A | L6: =IF(G6<>0, _xlfn.CONCAT(J6,"/",G6,"(",TEXT(K6*100,"#.0"),"%",")"),"N/A") -> N/A | M6: =SUM(M12,M18,M24,M30,M36,M42,M62) -> 0 | N6: =IF(M6<>0,M6/G6,"N/A") -> N/A | O6: =IF(M6<>0,_xlfn.CONCAT(M6,"/",G6,"(",TEXT(N6*100,"#.0"),"%",")"),"N/A") -> N/A
B7: =B6+1 -> 2023 | C7: All NBS Disorders Reported | D7: =SUM(D13,D19,D25,D31,D37,D43,D63) -> 0 | E7: =SUM(E13,E19,E25,E31,E37,E43,E63) -> 0 | G7: =SUM(G13,G19,G25,G31,G37,G43,G63) -> 0 | H7: =IF(G7<>0,G7/D7, "N/A") -> N/A | I7: =IF(G7<>0, _xlfn.CONCAT(G7,"/",D7,"(",TEXT(H7*100,"#.0"),"%",")"),"N/A") -> N/A | J7: =SUM(J13,J19,J25,J31,J37,J43,J63) -> 0 | K7: =IF( J7<>0, J7/G7, "N/A") -> N/A | L7: =IF(G7<>0, _xlfn.CONCAT(J7,"/",G7,"(",TEXT(K7*100,"#.0"),"%",")"),"N/A") -> N/A | M7: =SUM(M13,M19,M25,M31,M37,M43,M63) -> 0 | N7: =IF(M7<>0,M7/G7,"N/A") -> N/A | O7: =IF(M7<>0,_xlfn.CONCAT(M7,"/",G7,"(",TEXT(N7*100,"#.0"),"%",")"),"N/A") -> N/A
B8: =B7+1 -> 2024 | C8: All NBS Disorders Reported | D8: =SUM(D14,D20,D26,D32,D38,D44,D64) -> 0 | E8: =SUM(E14,E20,E26,E32,E38,E44,E64) -> 0 | G8: =SUM(G14,G20,G26,G32,G38,G44,G64) -> 0 | H8: =IF(G8<>0,G8/D8, "N/A") -> N/A | I8: =IF(G8<>0, _xlfn.CONCAT(G8,"/",D8,"(",TEXT(H8*100,"#.0"),"%",")"),"N/A") -> N/A | J8: =SUM(J14,J20,J26,J32,J38,J44,J64) -> 0 | K8: =IF( J8<>0, J8/G8, "N/A") -> N/A | L8: =IF(G8<>0, _xlfn.CONCAT(J8,"/",G8,"(",TEXT(K8*100,"#.0"),"%",")"),"N/A") -> N/A | M8: =SUM(M14,M20,M26,M32,M38,M44,M64) -> 0 | N8: =IF(M8<>0,M8/G8,"N/A") -> N/A | O8: =IF(M8<>0,_xlfn.CONCAT(M8,"/",G8,"(",TEXT(N8*100,"#.0"),"%",")"),"N/A") -> N/A
B10: 2020 | C10: Metabolic Conditions | D10: ='State 1'!D7 -> 0 | E10: ='State 1'!E7 -> 0 | G10: =+'State 1'!J7 -> 0 | H10: =IF(G10<>0,G10/D10, "N/A") -> N/A | I10: =IF(G10<>0, _xlfn.CONCAT(G10,"/",D10,"(",TEXT(H10*100,"#.0"),"%",")"),"N/A") -> N/A | J10: ='State 1'!K7 -> 0 | K10: =IF( J10<>0, J10/G10, "N/A") -> N/A | L10: =IF(G10<>0, _xlfn.CONCAT(J10,"/",G10,"(",TEXT(K10*100,"#.0"),"%",")"),"N/A") -> N/A | M10: ='State 1'!L7 -> 0 | N10: =IF(M10<>0,M10/G10,"N/A") -> N/A | O10: =IF(M10<>0,_xlfn.CONCAT(M10,"/",G10,"(",TEXT(N10*100,"#.0"),"%",")"),"N/A") -> N/A
B11: =B10+1 -> 2021 | C11: Metabolic Conditions | D11: ='State 1'!D8 -> 0 | E11: ='State 1'!E8 -> 0 | G11: =+'State 1'!J8 -> 0 | H11: =IF(G11<>0,G11/D11, "N/A") -> N/A | I11: =IF(G11<>0, _xlfn.CONCAT(G11,"/",D11,"(",TEXT(H11*100,"#.0"),"%",")"),"N/A") -> N/A | J11: ='State 1'!K8 -> 0 | K11: =IF( J11<>0, J11/G11, "N/A") -> N/A | L11: =IF(G11<>0, _xlfn.CONCAT(J11,"/",G11,"(",TEXT(K11*100,"#.0"),"%",")"),"N/A") -> N/A | M11: ='State 1'!L8 -> 0 | N11: =IF(M11<>0,M11/G11,"N/A") -> N/A | O11: =IF(M11<>0,_xlfn.CONCAT(M11,"/",G11,"(",TEXT(N11*100,"#.0"),"%",")"),"N/A") -> N/A
B12: =B11+1 -> 2022 | C12: Metabolic Conditions | D12: ='State 1'!D9 -> 0 | E12: ='State 1'!E9 -> 0 | G12: ='State 1'!J9 -> 0 | H12: =IF(G12<>0,G12/D12, "N/A") -> N/A | I12: =IF(G12<>0, _xlfn.CONCAT(G12,"/",D12,"(",TEXT(H12*100,"#.0"),"%",")"),"N/A") -> N/A | J12: ='State 1'!K9 -> 0 | K12: =IF( J12<>0, J12/G12, "N/A") -> N/A | L12: =IF(G12<>0, _xlfn.CONCAT(J12,"/",G12,"(",TEXT(K12*100,"#.0"),"%",")"),"N/A") -> N/A | M12: ='State 1'!L9 -> 0 | N12: =IF(M12<>0,M12/G12,"N/A") -> N/A | O12: =IF(M12<>0,_xlfn.CONCAT(M12,"/",G12,"(",TEXT(N12*100,"#.0"),"%",")"),"N/A") -> N/A
B13: =B12+1 -> 2023 | C13: Metabolic Conditions | D13: ='State 1'!D10 -> 0 | E13: ='State 1'!E10 -> 0 | G13: =+'State 1'!J10 -> 0 | H13: =IF(G13<>0,G13/D13, "N/A") -> N/A | I13: =IF(G13<>0, _xlfn.CONCAT(G13,"/",D13,"(",TEXT(H13*100,"#.0"),"%",")"),"N/A") -> N/A | J13: ='State 1'!K10 -> 0 | K13: =IF( J13<>0, J13/G13, "N/A") -> N/A | L13: =IF(G13<>0, _xlfn.CONCAT(J13,"/",G13,"(",TEXT(K13*100,"#.0"),"%",")"),"N/A") -> N/A | M13: ='State 1'!L10 -> 0 | N13: =IF(M13<>0,M13/G13,"N/A") -> N/A | O13: =IF(M13<>0,_xlfn.CONCAT(M13,"/",G13,"(",TEXT(N13*100,"#.0"),"%",")"),"N/A") -> N/A
B14: =B13+1 -> 2024 | C14: Metabolic Conditions | D14: ='State 1'!D11 -> 0 | E14: ='State 1'!E11 -> 0 | G14: =+'State 1'!J11 -> 0 | H14: =IF(G14<>0,G14/D14, "N/A") -> N/A | I14: =IF(G14<>0, _xlfn.CONCAT(G14,"/",D14,"(",TEXT(H14*100,"#.0"),"%",")"),"N/A") -> N/A | J14: ='State 1'!K11 -> 0 | K14: =IF( J14<>0, J14/G14, "N/A") -> N/A | L14: =IF(G14<>0, _xlfn.CONCAT(J14,"/",G14,"(",TEXT(K14*100,"#.0"),"%",")"),"N/A") -> N/A | M14: ='State 1'!L11 -> 0 | N14: =IF(M14<>0,M14/G14,"N/A") -> N/A | O14: =IF(M14<>0,_xlfn.CONCAT(M14,"/",G14,"(",TEXT(N14*100,"#.0"),"%",")"),"N/A") -> N/A
B16: 2020 | C16: Congenital Adrenal Hyperplasia | D16: ='State 1'!#REF! -> #REF! | E16: ='State 1'!E13 -> 0 | G16: =+'State 1'!J13 -> 0 | H16: =IF(G16<>0,G16/D16, "N/A") -> N/A | I16: =IF(G16<>0, _xlfn.CONCAT(G16,"/",D16,"(",TEXT(H16*100,"#.0"),"%",")"),"N/A") -> N/A | J16: ='State 1'!K13 -> 0 | K16: =IF( J16<>0, J16/G16, "N/A") -> N/A | L16: =IF(G16<>0, _xlfn.CONCAT(J16,"/",G16,"(",TEXT(K16*100,"#.0"),"%",")"),"N/A") -> N/A | M16: ='State 1'!L13 -> 0 | N16: =IF(M16<>0,M16/G16,"N/A") -> N/A | O16: =IF(M16<>0,_xlfn.CONCAT(M16,"/",G16,"(",TEXT(N16*100,"#.0"),"%",")"),"N/A") -> N/A
B17: =B16+1 -> 2021 | C17: Congenital Adrenal Hyperplasia | D17: ='State 1'!D14 -> 0 | E17: ='State 1'!E14 -> 0 | G17: =+'State 1'!J14 -> 0 | H17: =IF(G17<>0,G17/D17, "N/A") -> N/A | I17: =IF(G17<>0, _xlfn.CONCAT(G17,"/",D17,"(",TEXT(H17*100,"#.0"),"%",")"),"N/A") -> N/A | J17: ='State 1'!K14 -> 0 | K17: =IF( J17<>0, J17/G17, "N/A") -> N/A | L17: =IF(G17<>0, _xlfn.CONCAT(J17,"/",G17,"(",TEXT(K17*100,"#.0"),"%",")"),"N/A") -> N/A | M17: ='State 1'!L14 -> 0 | N17: =IF(M17<>0,M17/G17,"N/A") -> N/A | O17: =IF(M17<>0,_xlfn.CONCAT(M17,"/",G17,"(",TEXT(N17*100,"#.0"),"%",")"),"N/A") -> N/A
B18: =B17+1 -> 2022 | C18: Congenital Adrenal Hyperplasia | D18: ='State 1'!D15 -> 0 | E18: ='State 1'!E15 -> 0 | G18: =+'State 1'!J15 -> 0 | H18: =IF(G18<>0,G18/D18, "N/A") -> N/A | I18: =IF(G18<>0, _xlfn.CONCAT(G18,"/",D18,"(",TEXT(H18*100,"#.0"),"%",")"),"N/A") -> N/A | J18: ='State 1'!K15 -> 0 | K18: =IF( J18<>0, J18/G18, "N/A") -> N/A | L18: =IF(G18<>0, _xlfn.CONCAT(J18,"/",G18,"(",TEXT(K18*100,"#.0"),"%",")"),"N/A") -> N/A | M18: ='State 1'!L15 -> 0 | N18: =IF(M18<>0,M18/G18,"N/A") -> N/A | O18: =IF(M18<>0,_xlfn.CONCAT(M18,"/",G18,"(",TEXT(N18*100,"#.0"),"%",")"),"N/A") -> N/A
B19: =B18+1 -> 2023 | C19: Congenital Adrenal Hyperplasia | D19: ='State 1'!D16 -> 0 | E19: ='State 1'!E16 -> 0 | G19: =+'State 1'!J16 -> 0 | H19: =IF(G19<>0,G19/D19, "N/A") -> N/A | I19: =IF(G19<>0, _xlfn.CONCAT(G19,"/",D19,"(",TEXT(H19*100,"#.0"),"%",")"),"N/A") -> N/A | J19: ='State 1'!K16 -> 0 | K19: =IF( J19<>0, J19/G19, "N/A") -> N/A | L19: =IF(G19<>0, _xlfn.CONCAT(J19,"/",G19,"(",TEXT(K19*100,"#.0"),"%",")"),"N/A") -> N/A | M19: ='State 1'!L16 -> 0 | N19: =IF(M19<>0,M19/G19,"N/A") -> N/A | O19: =IF(M19<>0,_xlfn.CONCAT(M19,"/",G19,"(",TEXT(N19*100,"#.0"),"%",")"),"N/A") -> N/A
B20: =B19+1 -> 2024 | C20: Congenital Adrenal Hyperplasia | D20: ='State 1'!D17 -> 0 | E20: ='State 1'!E17 -> 0 | G20: =+'State 1'!J17 -> 0 | H20: =IF(G20<>0,G20/D20, "N/A") -> N/A | I20: =IF(G20<>0, _xlfn.CONCAT(G20,"/",D20,"(",TEXT(H20*100,"#.0"),"%",")"),"N/A") -> N/A | J20: ='State 1'!K17 -> 0 | K20: =IF( J20<>0, J20/G20, "N/A") -> N/A | L20: =IF(G20<>0, _xlfn.CONCAT(J20,"/",G20,"(",TEXT(K20*100,"#.0"),"%",")"),"N/A") -> N/A | M20: ='State 1'!L17 -> 0 | N20: =IF(M20<>0,M20/G20,"N/A") -> N/A | O20: =IF(M20<>0,_xlfn.CONCAT(M20,"/",G20,"(",TEXT(N20*100,"#.0"),"%",")"),"N/A") -> N/A
B22: 2020 | C22: Congential Hypothyroidism | D22: ='State 1'!D19 -> 0 | E22: ='State 1'!E19 -> 0 | G22: =+'State 1'!J19 -> 0 | H22: =IF(G22<>0,G22/D22, "N/A") -> N/A | I22: =IF(G22<>0, _xlfn.CONCAT(G22,"/",D22,"(",TEXT(H22*100,"#.0"),"%",")"),"N/A") -> N/A | J22: ='State 1'!K19 -> 0 | K22: =IF( J22<>0, J22/G22, "N/A") -> N/A | L22: =IF(G22<>0, _xlfn.CONCAT(J22,"/",G22,"(",TEXT(K22*100,"#.0"),"%",")"),"N/A") -> N/A | M22: ='State 1'!L19 -> 0 | N22: =IF(M22<>0,M22/G22,"N/A") -> N/A | O22: =IF(M22<>0,_xlfn.CONCAT(M22,"/",G22,"(",TEXT(N22*100,"#.0"),"%",")"),"N/A") -> N/A
B23: =B22+1 -> 2021 | C23: Congential Hypothyroidism | D23: ='State 1'!D20 -> 0 | E23: ='State 1'!E20 -> 0 | G23: =+'State 1'!J20 -> 0 | H23: =IF(G23<>0,G23/D23, "N/A") -> N/A | I23: =IF(G23<>0, _xlfn.CONCAT(G23,"/",D23,"(",TEXT(H23*100,"#.0"),"%",")"),"N/A") -> N/A | J23: ='State 1'!K20 -> 0 | K23: =IF( J23<>0, J23/G23, "N/A") -> N/A | L23: =IF(G23<>0, _xlfn.CONCAT(J23,"/",G23,"(",TEXT(K23*100,"#.0"),"%",")"),"N/A") -> N/A | M23: ='State 1'!L20 -> 0 | N23: =IF(M23<>0,M23/G23,"N/A") -> N/A | O23: =IF(M23<>0,_xlfn.CONCAT(M23,"/",G23,"(",TEXT(N23*100,"#.0"),"%",")"),"N/A") -> N/A
B24: =B23+1 -> 2022 | C24: Congential Hypothyroidism | D24: ='State 1'!D21 -> 0 | E24: ='State 1'!E21 -> 0 | G24: =+'State 1'!J21 -> 0 | H24: =IF(G24<>0,G24/D24, "N/A") -> N/A | I24: =IF(G24<>0, _xlfn.CONCAT(G24,"/",D24,"(",TEXT(H24*100,"#.0"),"%",")"),"N/A") -> N/A | J24: ='State 1'!K21 -> 0 | K24: =IF( J24<>0, J24/G24, "N/A") -> N/A | L24: =IF(G24<>0, _xlfn.CONCAT(J24,"/",G24,"(",TEXT(K24*100,"#.0"),"%",")"),"N/A") -> N/A | M24: ='State 1'!L21 -> 0 | N24: =IF(M24<>0,M24/G24,"N/A") -> N/A | O24: =IF(M24<>0,_xlfn.CONCAT(M24,"/",G24,"(",TEXT(N24*100,"#.0"),"%",")"),"N/A") -> N/A
B25: =B24+1 -> 2023 | C25: Congential Hypothyroidism | D25: ='State 1'!D22 -> 0 | E25: ='State 1'!E22 -> 0 | G25: =+'State 1'!J22 -> 0 | H25: =IF(G25<>0,G25/D25, "N/A") -> N/A | I25: =IF(G25<>0, _xlfn.CONCAT(G25,"/",D25,"(",TEXT(H25*100,"#.0"),"%",")"),"N/A") -> N/A | J25: ='State 1'!K22 -> 0 | K25: =IF( J25<>0, J25/G25, "N/A") -> N/A | L25: =IF(G25<>0, _xlfn.CONCAT(J25,"/",G25,"(",TEXT(K25*100,"#.0"),"%",")"),"N/A") -> N/A | M25: ='State 1'!L22 -> 0 | N25: =IF(M25<>0,M25/G25,"N/A") -> N/A | O25: =IF(M25<>0,_xlfn.CONCAT(M25,"/",G25,"(",TEXT(N25*100,"#.0"),"%",")"),"N/A") -> N/A
B26: =B25+1 -> 2024 | C26: Congential Hypothyroidism | D26: ='State 1'!D23 -> 0 | E26: ='State 1'!E23 -> 0 | G26: =+'State 1'!J23 -> 0 | H26: =IF(G26<>0,G26/D26, "N/A") -> N/A | I26: =IF(G26<>0, _xlfn.CONCAT(G26,"/",D26,"(",TEXT(H26*100,"#.0"),"%",")"),"N/A") -> N/A | J26: ='State 1'!K23 -> 0 | K26: =IF( J26<>0, J26/G26, "N/A") -> N/A | L26: =IF(G26<>0, _xlfn.CONCAT(J26,"/",G26,"(",TEXT(K26*100,"#.0"),"%",")"),"N/A") -> N/A | M26: ='State 1'!L23 -> 0 | N26: =IF(M26<>0,M26/G26,"N/A") -> N/A | O26: =IF(M26<>0,_xlfn.CONCAT(M26,"/",G26,"(",TEXT(N26*100,"#.0"),"%",")"),"N/A") -> N/A
B28: 2020 | C28: Hemoglobinopathies | D28: ='State 1'!D25 -> 0 | E28: ='State 1'!E25 -> 0 | G28: =+'State 1'!J25 -> 0 | H28: =IF(G28<>0,G28/D28, "N/A") -> N/A | I28: =IF(G28<>0, _xlfn.CONCAT(G28,"/",D28,"(",TEXT(H28*100,"#.0"),"%",")"),"N/A") -> N/A | J28: ='State 1'!K25 -> 0 | K28: =IF( J28<>0, J28/G28, "N/A") -> N/A | L28: =IF(G28<>0, _xlfn.CONCAT(J28,"/",G28,"(",TEXT(K28*100,"#.0"),"%",")"),"N/A") -> N/A | M28: ='State 1'!L25 -> 0 | N28: =IF(M28<>0,M28/G28,"N/A") -> N/A | O28: =IF(M28<>0,_xlfn.CONCAT(M28,"/",G28,"(",TEXT(N28*100,"#.0"),"%",")"),"N/A") -> N/A
B29: =B28+1 -> 2021 | C29: Hemoglobinopathies | D29: ='State 1'!D26 -> 0 | E29: ='State 1'!E26 -> 0 | G29: =+'State 1'!J26 -> 0 | H29: =IF(G29<>0,G29/D29, "N/A") -> N/A | I29: =IF(G29<>0, _xlfn.CONCAT(G29,"/",D29,"(",TEXT(H29*100,"#.0"),"%",")"),"N/A") -> N/A | J29: ='State 1'!K26 -> 0 | K29: =IF( J29<>0, J29/G29, "N/A") -> N/A | L29: =IF(G29<>0, _xlfn.CONCAT(J29,"/",G29,"(",TEXT(K29*100,"#.0"),"%",")"),"N/A") -> N/A | M29: ='State 1'!L26 -> 0 | N29: =IF(M29<>0,M29/G29,"N/A") -> N/A | O29: =IF(M29<>0,_xlfn.CONCAT(M29,"/",G29,"(",TEXT(N29*100,"#.0"),"%",")"),"N/A") -> N/A
B30: =B29+1 -> 2022 | C30: Hemoglobinopathies | D30: ='State 1'!D27 -> 0 | E30: ='State 1'!E27 -> 0 | G30: =+'State 1'!J27 -> 0 | H30: =IF(G30<>0,G30/D30, "N/A") -> N/A | I30: =IF(G30<>0, _xlfn.CONCAT(G30,"/",D30,"(",TEXT(H30*100,"#.0"),"%",")"),"N/A") -> N/A | J30: ='State 1'!K27 -> 0 | K30: =IF( J30<>0, J30/G30, "N/A") -> N/A | L30: =IF(G30<>0, _xlfn.CONCAT(J30,"/",G30,"(",TEXT(K30*100,"#.0"),"%",")"),"N/A") -> N/A | M30: ='State 1'!L27 -> 0 | N30: =IF(M30<>0,M30/G30,"N/A") -> N/A | O30: =IF(M30<>0,_xlfn.CONCAT(M30,"/",G30,"(",TEXT(N30*100,"#.0"),"%",")"),"N/A") -> N/A
B31: =B30+1 -> 2023 | C31: Hemoglobinopathies | D31: ='State 1'!D28 -> 0 | E31: ='State 1'!E28 -> 0 | G31: =+'State 1'!J28 -> 0 | H31: =IF(G31<>0,G31/D31, "N/A") -> N/A | I31: =IF(G31<>0, _xlfn.CONCAT(G31,"/",D31,"(",TEXT(H31*100,"#.0"),"%",")"),"N/A") -> N/A | J31: ='State 1'!K28 -> 0 | K31: =IF( J31<>0, J31/G31, "N/A") -> N/A | L31: =IF(G31<>0, _xlfn.CONCAT(J31,"/",G31,"(",TEXT(K31*100,"#.0"),"%",")"),"N/A") -> N/A | M31: ='State 1'!L28 -> 0 | N31: =IF(M31<>0,M31/G31,"N/A") -> N/A | O31: =IF(M31<>0,_xlfn.CONCAT(M31,"/",G31,"(",TEXT(N31*100,"#.0"),"%",")"),"N/A") -> N/A
B32: =B31+1 -> 2024 | C32: Hemoglobinopathies | D32: ='State 1'!D29 -> 0 | E32: ='State 1'!E29 -> 0 | G32: =+'State 1'!J29 -> 0 | H32: =IF(G32<>0,G32/D32, "N/A") -> N/A | I32: =IF(G32<>0, _xlfn.CONCAT(G32,"/",D32,"(",TEXT(H32*100,"#.0"),"%",")"),"N/A") -> N/A | J32: ='State 1'!K29 -> 0 | K32: =IF( J32<>0, J32/G32, "N/A") -> N/A | L32: =IF(G32<>0, _xlfn.CONCAT(J32,"/",G32,"(",TEXT(K32*100,"#.0"),"%",")"),"N/A") -> N/A | M32: ='State 1'!L29 -> 0 | N32: =IF(M32<>0,M32/G32,"N/A") -> N/A | O32: =IF(M32<>0,_xlfn.CONCAT(M32,"/",G32,"(",TEXT(N32*100,"#.0"),"%",")"),"N/A") -> N/A
B34: 2020 | C34: Cystic Fibrosis | D34: ='State 1'!D31 -> 0 | E34: ='State 1'!E31 -> 0 | G34: =+'State 1'!J31 -> 0 | H34: =IF(G34<>0,G34/D34, "N/A") -> N/A | I34: =IF(G34<>0, _xlfn.CONCAT(G34,"/",D34,"(",TEXT(H34*100,"#.0"),"%",")"),"N/A") -> N/A | J34: ='State 1'!K31 -> 0 | K34: =IF( J34<>0, J34/G34, "N/A") -> N/A | L34: =IF(G34<>0, _xlfn.CONCAT(J34,"/",G34,"(",TEXT(K34*100,"#.0"),"%",")"),"N/A") -> N/A | M34: ='State 1'!L31 -> 0 | N34: =IF(M34<>0,M34/G34,"N/A") -> N/A | O34: =IF(M34<>0,_xlfn.CONCAT(M34,"/",G34,"(",TEXT(N34*100,"#.0"),"%",")"),"N/A") -> N/A
B35: =B34+1 -> 2021 | C35: Cystic Fibrosis | D35: ='State 1'!D32 -> 0 | E35: ='State 1'!E32 -> 0 | G35: =+'State 1'!J32 -> 0 | H35: =IF(G35<>0,G35/D35, "N/A") -> N/A | I35: =IF(G35<>0, _xlfn.CONCAT(G35,"/",D35,"(",TEXT(H35*100,"#.0"),"%",")"),"N/A") -> N/A | J35: ='State 1'!K32 -> 0 | K35: =IF( J35<>0, J35/G35, "N/A") -> N/A | L35: =IF(G35<>0, _xlfn.CONCAT(J35,"/",G35,"(",TEXT(K35*100,"#.0"),"%",")"),"N/A") -> N/A | M35: ='State 1'!L32 -> 0 | N35: =IF(M35<>0,M35/G35,"N/A") -> N/A | O35: =IF(M35<>0,_xlfn.CONCAT(M35,"/",G35,"(",TEXT(N35*100,"#.0"),"%",")"),"N/A") -> N/A
B36: =B35+1 -> 2022 | C36: Cystic Fibrosis | D36: ='State 1'!D33 -> 0 | E36: ='State 1'!E33 -> 0 | G36: =+'State 1'!J33 -> 0 | H36: =IF(G36<>0,G36/D36, "N/A") -> N/A | I36: =IF(G36<>0, _xlfn.CONCAT(G36,"/",D36,"(",TEXT(H36*100,"#.0"),"%",")"),"N/A") -> N/A | J36: ='State 1'!K33 -> 0 | K36: =IF( J36<>0, J36/G36, "N/A") -> N/A | L36: =IF(G36<>0, _xlfn.CONCAT(J36,"/",G36,"(",TEXT(K36*100,"#.0"),"%",")"),"N/A") -> N/A | M36: ='State 1'!L33 -> 0 | N36: =IF(M36<>0,M36/G36,"N/A") -> N/A | O36: =IF(M36<>0,_xlfn.CONCAT(M36,"/",G36,"(",TEXT(N36*100,"#.0"),"%",")"),"N/A") -> N/A
B37: =B36+1 -> 2023 | C37: Cystic Fibrosis | D37: ='State 1'!D34 -> 0 | E37: ='State 1'!E34 -> 0 | G37: =+'State 1'!J34 -> 0 | H37: =IF(G37<>0,G37/D37, "N/A") -> N/A | I37: =IF(G37<>0, _xlfn.CONCAT(G37,"/",D37,"(",TEXT(H37*100,"#.0"),"%",")"),"N/A") -> N/A | J37: ='State 1'!K34 -> 0 | K37: =IF( J37<>0, J37/G37, "N/A") -> N/A | L37: =IF(G37<>0, _xlfn.CONCAT(J37,"/",G37,"(",TEXT(K37*100,"#.0"),"%",")"),"N/A") -> N/A | M37: ='State 1'!L34 -> 0 | N37: =IF(M37<>0,M37/G37,"N/A") -> N/A | O37: =IF(M37<>0,_xlfn.CONCAT(M37,"/",G37,"(",TEXT(N37*100,"#.0"),"%",")"),"N/A") -> N/A
B38: =B37+1 -> 2024 | C38: Cystic Fibrosis | D38: ='State 1'!D35 -> 0 | E38: ='State 1'!E35 -> 0 | G38: =+'State 1'!J35 -> 0 | H38: =IF(G38<>0,G38/D38, "N/A") -> N/A | I38: =IF(G38<>0, _xlfn.CONCAT(G38,"/",D38,"(",TEXT(H38*100,"#.0"),"%",")"),"N/A") -> N/A | J38: ='State 1'!K35 -> 0 | K38: =IF( J38<>0, J38/G38, "N/A") -> N/A | L38: =IF(G38<>0, _xlfn.CONCAT(J38,"/",G38,"(",TEXT(K38*100,"#.0"),"%",")"),"N/A") -> N/A | M38: ='State 1'!L35 -> 0 | N38: =IF(M38<>0,M38/G38,"N/A") -> N/A | O38: =IF(M38<>0,_xlfn.CONCAT(M38,"/",G38,"(",TEXT(N38*100,"#.0"),"%",")"),"N/A") -> N/A
B40: 2020 | C40: Severe Combined Immunodeficiency (SCID) | D40: ='State 1'!D37 -> 0 | E40: ='State 1'!E37 -> 0 | G40: =+'State 1'!J37 -> 0 | H40: =IF(G40<>0,G40/D40, "N/A") -> N/A | I40: =IF(G40<>0, _xlfn.CONCAT(G40,"/",D40,"(",TEXT(H40*100,"#.0"),"%",")"),"N/A") -> N/A | J40: ='State 1'!K37 -> 0 | K40: =IF( J40<>0, J40/G40, "N/A") -> N/A | L40: =IF(G40<>0, _xlfn.CONCAT(J40,"/",G40,"(",TEXT(K40*100,"#.0"),"%",")"),"N/A") -> N/A | M40: ='State 1'!L37 -> 0 | N40: =IF(M40<>0,M40/G40,"N/A") -> N/A | O40: =IF(M40<>0,_xlfn.CONCAT(M40,"/",G40,"(",TEXT(N40*100,"#.0"),"%",")"),"N/A") -> N/A
B41: =B40+1 -> 2021 | C41: Severe Combined Immunodeficiency (SCID) | D41: ='State 1'!D38 -> 0 | E41: ='State 1'!E38 -> 0 | G41: =+'State 1'!J38 -> 0 | H41: =IF(G41<>0,G41/D41, "N/A") -> N/A | I41: =IF(G41<>0, _xlfn.CONCAT(G41,"/",D41,"(",TEXT(H41*100,"#.0"),"%",")"),"N/A") -> N/A | J41: ='State 1'!K38 -> 0 | K41: =IF( J41<>0, J41/G41, "N/A") -> N/A | L41: =IF(G41<>0, _xlfn.CONCAT(J41,"/",G41,"(",TEXT(K41*100,"#.0"),"%",")"),"N/A") -> N/A | M41: ='State 1'!L38 -> 0 | N41: =IF(M41<>0,M41/G41,"N/A") -> N/A | O41: =IF(M41<>0,_xlfn.CONCAT(M41,"/",G41,"(",TEXT(N41*100,"#.0"),"%",")"),"N/A") -> N/A
B42: =B41+1 -> 2022 | C42: Severe Combined Immunodeficiency (SCID) | D42: ='State 1'!D39 -> 0 | E42: ='State 1'!E39 -> 0 | G42: =+'State 1'!J39 -> 0 | H42: =IF(G42<>0,G42/D42, "N/A") -> N/A | I42: =IF(G42<>0, _xlfn.CONCAT(G42,"/",D42,"(",TEXT(H42*100,"#.0"),"%",")"),"N/A") -> N/A | J42: ='State 1'!K39 -> 0 | K42: =IF( J42<>0, J42/G42, "N/A") -> N/A | L42: =IF(G42<>0, _xlfn.CONCAT(J42,"/",G42,"(",TEXT(K42*100,"#.0"),"%",")"),"N/A") -> N/A | M42: ='State 1'!L39 -> 0 | N42: =IF(M42<>0,M42/G42,"N/A") -> N/A | O42: =IF(M42<>0,_xlfn.CONCAT(M42,"/",G42,"(",TEXT(N42*100,"#.0"),"%",")"),"N/A") -> N/A
B43: =B42+1 -> 2023 | C43: Severe Combined Immunodeficiency (SCID) | D43: ='State 1'!D40 -> 0 | E43: ='State 1'!E40 -> 0 | G43: =+'State 1'!J40 -> 0 | H43: =IF(G43<>0,G43/D43, "N/A") -> N/A | I43: =IF(G43<>0, _xlfn.CONCAT(G43,"/",D43,"(",TEXT(H43*100,"#.0"),"%",")"),"N/A") -> N/A | J43: ='State 1'!K40 -> 0 | K43: =IF( J43<>0, J43/G43, "N/A") -> N/A | L43: =IF(G43<>0, _xlfn.CONCAT(J43,"/",G43,"(",TEXT(K43*100,"#.0"),"%",")"),"N/A") -> N/A | M43: ='State 1'!L40 -> 0 | N43: =IF(M43<>0,M43/G43,"N/A") -> N/A | O43: =IF(M43<>0,_xlfn.CONCAT(M43,"/",G43,"(",TEXT(N43*100,"#.0"),"%",")"),"N/A") -> N/A
B44: =B43+1 -> 2024 | C44: Severe Combined Immunodeficiency (SCID) | D44: ='State 1'!D41 -> 0 | E44: ='State 1'!E41 -> 0 | G44: =+'State 1'!J41 -> 0 | H44: =IF(G44<>0,G44/D44, "N/A") -> N/A | I44: =IF(G44<>0, _xlfn.CONCAT(G44,"/",D44,"(",TEXT(H44*100,"#.0"),"%",")"),"N/A") -> N/A | J44: ='State 1'!K41 -> 0 | K44: =IF( J44<>0, J44/G44, "N/A") -> N/A | L44: =IF(G44<>0, _xlfn.CONCAT(J44,"/",G44,"(",TEXT(K44*100,"#.0"),"%",")"),"N/A") -> N/A | M44: ='State 1'!L41 -> 0 | N44: =IF(M44<>0,M44/G44,"N/A") -> N/A | O44: =IF(M44<>0,_xlfn.CONCAT(M44,"/",G44,"(",TEXT(N44*100,"#.0"),"%",")"),"N/A") -> N/A
B46: 2018 | C46: X ALD
B47: 2019 | C47: X ALD
B48: 2020 | C48: X ALD
B49: 2021 | C49: X ALD
B50: 2022 | C50: X ALD
B52: 2018
B53: 2019
B54: 2020
B55: 2021
B56: 2022
B60: 2020 | C60: Spinal Muscular Atrophy | D60: ='State 1'!D43 -> 0 | E60: ='State 1'!E43 -> 0 | G60: =+'State 1'!J43 -> 0 | H60: =IF(G60<>0,G60/D60, "N/A") -> N/A | I60: =IF(G60<>0, _xlfn.CONCAT(G60,"/",D60,"(",TEXT(H60*100,"#.0"),"%",")"),"N/A") -> N/A | J60: ='State 1'!K43 -> 0 | K60: =IF( J60<>0, J60/G60, "N/A") -> N/A | L60: =IF(G60<>0, _xlfn.CONCAT(J60,"/",G60,"(",TEXT(K60*100,"#.0"),"%",")"),"N/A") -> N/A | M60: ='State 1'!L43 -> 0 | N60: =IF(M60<>0,M60/G60,"N/A") -> N/A | O60: =IF(M60<>0,_xlfn.CONCAT(M60,"/",G60,"(",TEXT(N60*100,"#.0"),"%",")"),"N/A") -> N/A
B61: =B60+1 -> 2021 | C61: Spinal Muscular Atrophy | D61: ='State 1'!D44 -> 0 | E61: ='State 1'!E44 -> 0 | G61: =+'State 1'!J44 -> 0 | H61: =IF(G61<>0,G61/D61, "N/A") -> N/A | I61: =IF(G61<>0, _xlfn.CONCAT(G61,"/",D61,"(",TEXT(H61*100,"#.0"),"%",")"),"N/A") -> N/A | J61: ='State 1'!K44 -> 0 | K61: =IF( J61<>0, J61/G61, "N/A") -> N/A | L61: =IF(G61<>0, _xlfn.CONCAT(J61,"/",G61,"(",TEXT(K61*100,"#.0"),"%",")"),"N/A") -> N/A | M61: ='State 1'!L44 -> 0 | N61: =IF(M61<>0,M61/G61,"N/A") -> N/A | O61: =IF(M61<>0,_xlfn.CONCAT(M61,"/",G61,"(",TEXT(N61*100,"#.0"),"%",")"),"N/A") -> N/A
B62: =B61+1 -> 2022 | C62: Spinal Muscular Atrophy | D62: ='State 1'!D45 -> 0 | E62: ='State 1'!E45 -> 0 | G62: =+'State 1'!J45 -> 0 | H62: =IF(G62<>0,G62/D62, "N/A") -> N/A | I62: =IF(G62<>0, _xlfn.CONCAT(G62,"/",D62,"(",TEXT(H62*100,"#.0"),"%",")"),"N/A") -> N/A | J62: ='State 1'!K45 -> 0 | K62: =IF( J62<>0, J62/G62, "N/A") -> N/A | L62: =IF(G62<>0, _xlfn.CONCAT(J62,"/",G62,"(",TEXT(K62*100,"#.0"),"%",")"),"N/A") -> N/A | M62: ='State 1'!L45 -> 0 | N62: =IF(M62<>0,M62/G62,"N/A") -> N/A | O62: =IF(M62<>0,_xlfn.CONCAT(M62,"/",G62,"(",TEXT(N62*100,"#.0"),"%",")"),"N/A") -> N/A
B63: =B62+1 -> 2023 | C63: Spinal Muscular Atrophy | D63: ='State 1'!D46 -> 0 | E63: ='State 1'!E46 -> 0 | G63: =+'State 1'!J46 -> 0 | H63: =IF(G63<>0,G63/D63, "N/A") -> N/A | I63: =IF(G63<>0, _xlfn.CONCAT(G63,"/",D63,"(",TEXT(H63*100,"#.0"),"%",")"),"N/A") -> N/A | J63: ='State 1'!K46 -> 0 | K63: =IF( J63<>0, J63/G63, "N/A") -> N/A | L63: =IF(G63<>0, _xlfn.CONCAT(J63,"/",G63,"(",TEXT(K63*100,"#.0"),"%",")"),"N/A") -> N/A | M63: ='State 1'!L46 -> 0 | N63: =IF(M63<>0,M63/G63,"N/A") -> N/A | O63: =IF(M63<>0,_xlfn.CONCAT(M63,"/",G63,"(",TEXT(N63*100,"#.0"),"%",")"),"N/A") -> N/A
B64: =B63+1 -> 2024 | C64: Spinal Muscular Atrophy | D64: ='State 1'!D47 -> 0 | E64: ='State 1'!E47 -> 0 | G64: =+'State 1'!J47 -> 0 | H64: =IF(G64<>0,G64/D64, "N/A") -> N/A | I64: =IF(G64<>0, _xlfn.CONCAT(G64,"/",D64,"(",TEXT(H64*100,"#.0"),"%",")"),"N/A") -> N/A | J64: ='State 1'!K47 -> 0 | K64: =IF( J64<>0, J64/G64, "N/A") -> N/A | L64: =IF(G64<>0, _xlfn.CONCAT(J64,"/",G64,"(",TEXT(K64*100,"#.0"),"%",")"),"N/A") -> N/A | M64: ='State 1'!L47 -> 0 | N64: =IF(M64<>0,M64/G64,"N/A") -> N/A | O64: =IF(M64<>0,_xlfn.CONCAT(M64,"/",G64,"(",TEXT(N64*100,"#.0"),"%",")"),"N/A") -> N/A
B66: 2020 | C66: X-ALD | D66: ='State 1'!D49 -> 0 | E66: ='State 1'!E49 -> 0 | G66: =+'State 1'!J49 -> 0 | H66: =IF(G66<>0,G66/D66, "N/A") -> N/A | I66: =IF(G66<>0, _xlfn.CONCAT(G66,"/",D66,"(",TEXT(H66*100,"#.0"),"%",")"),"N/A") -> N/A | J66: ='State 1'!K49 -> 0 | K66: =IF( J66<>0, J66/G66, "N/A") -> N/A | L66: =IF(G66<>0, _xlfn.CONCAT(J66,"/",G66,"(",TEXT(K66*100,"#.0"),"%",")"),"N/A") -> N/A | M66: ='State 1'!L49 -> 0 | N66: =IF(M66<>0,M66/G66,"N/A") -> N/A | O66: =IF(M66<>0,_xlfn.CONCAT(M66,"/",G66,"(",TEXT(N66*100,"#.0"),"%",")"),"N/A") -> N/A
B67: =B66+1 -> 2021 | C67: X-ALD | D67: ='State 1'!D50 -> 0 | E67: ='State 1'!E50 -> 0 | G67: =+'State 1'!J50 -> 0 | H67: =IF(G67<>0,G67/D67, "N/A") -> N/A | I67: =IF(G67<>0, _xlfn.CONCAT(G67,"/",D67,"(",TEXT(H67*100,"#.0"),"%",")"),"N/A") -> N/A | J67: ='State 1'!K50 -> 0 | K67: =IF( J67<>0, J67/G67, "N/A") -> N/A | L67: =IF(G67<>0, _xlfn.CONCAT(J67,"/",G67,"(",TEXT(K67*100,"#.0"),"%",")"),"N/A") -> N/A | M67: ='State 1'!L50 -> 0 | N67: =IF(M67<>0,M67/G67,"N/A") -> N/A | O67: =IF(M67<>0,_xlfn.CONCAT(M67,"/",G67,"(",TEXT(N67*100,"#.0"),"%",")"),"N/A") -> N/A
B68: =B67+1 -> 2022 | C68: X-ALD | D68: ='State 1'!D51 -> 0 | E68: ='State 1'!E51 -> 0 | G68: =+'State 1'!J51 -> 0 | H68: =IF(G68<>0,G68/D68, "N/A") -> N/A | I68: =IF(G68<>0, _xlfn.CONCAT(G68,"/",D68,"(",TEXT(H68*100,"#.0"),"%",")"),"N/A") -> N/A | J68: ='State 1'!K51 -> 0 | K68: =IF( J68<>0, J68/G68, "N/A") -> N/A | L68: =IF(G68<>0, _xlfn.CONCAT(J68,"/",G68,"(",TEXT(K68*100,"#.0"),"%",")"),"N/A") -> N/A | M68: ='State 1'!L51 -> 0 | N68: =IF(M68<>0,M68/G68,"N/A") -> N/A | O68: =IF(M68<>0,_xlfn.CONCAT(M68,"/",G68,"(",TEXT(N68*100,"#.0"),"%",")"),"N/A") -> N/A
B69: =B68+1 -> 2023 | C69: X-ALD | D69: ='State 1'!D52 -> 0 | E69: ='State 1'!E52 -> 0 | G69: =+'State 1'!J52 -> 0 | H69: =IF(G69<>0,G69/D69, "N/A") -> N/A | I69: =IF(G69<>0, _xlfn.CONCAT(G69,"/",D69,"(",TEXT(H69*100,"#.0"),"%",")"),"N/A") -> N/A | J69: ='State 1'!K52 -> 0 | K69: =IF( J69<>0, J69/G69, "N/A") -> N/A | L69: =IF(G69<>0, _xlfn.CONCAT(J69,"/",G69,"(",TEXT(K69*100,"#.0"),"%",")"),"N/A") -> N/A | M69: ='State 1'!L52 -> 0 | N69: =IF(M69<>0,M69/G69,"N/A") -> N/A | O69: =IF(M69<>0,_xlfn.CONCAT(M69,"/",G69,"(",TEXT(N69*100,"#.0"),"%",")"),"N/A") -> N/A
B70: =B69+1 -> 2024 | C70: X-ALD | D70: ='State 1'!D53 -> 0 | E70: ='State 1'!E53 -> 0 | G70: =+'State 1'!J53 -> 0 | H70: =IF(G70<>0,G70/D70, "N/A") -> N/A | I70: =IF(G70<>0, _xlfn.CONCAT(G70,"/",D70,"(",TEXT(H70*100,"#.0"),"%",")"),"N/A") -> N/A | J70: ='State 1'!K53 -> 0 | K70: =IF( J70<>0, J70/G70, "N/A") -> N/A | L70: =IF(G70<>0, _xlfn.CONCAT(J70,"/",G70,"(",TEXT(K70*100,"#.0"),"%",")"),"N/A") -> N/A | M70: ='State 1'!L53 -> 0 | N70: =IF(M70<>0,M70/G70,"N/A") -> N/A | O70: =IF(M70<>0,_xlfn.CONCAT(M70,"/",G70,"(",TEXT(N70*100,"#.0"),"%",")"),"N/A") -> N/A

Sheet MASTER
B1: priority questions*
B3: Defining the cohort | H3: Question 3: Child's LTFU Status (Followed, Active, Moved, Lost, Deceased)
D4: Question 1 | H4: Question 3a: Deaths during calendar year | I4: Question 3b: Moved | K4: Question 3c: Status of Infants Living in Jurisdiction
B5: (Q1a) | C5: (Q1b)* | D5: (Q1c.1)* | E5: Q1c.2 | F5: (Q1d) | G5: (Q1e) | H5: (Q3a.1)* | I5: (Q3b) | K5: (Q3c.1) | M5: Q3c.2 (formerly Q4a)* | O5: (Q3c.3) (formerly Q3C.2)*
B6: Birth Cohort | C6: Confirmed Diagnosis/ Disorder Category (Repeated for additional disorder groups ) | D6: Number of births in cohort with disorder | E6: Number of children who moved or died prior to the current follow-up year | F6: Calendar Year | G6: Age during calendar year | H6: Number (%) known to have died in reporting year | I6: Number known to have moved out of state during Calendar Year | K6: Number alive and known to be currently living in state | L6: Percent | M6: Number seen by a care team appropriate for the condition within the past 12 months | O6: Number receiving appropriate care (meeting condition-specific recommendations for care) in Calendar Year
B7: Calendar year for related data | C7: Diagnosis as determined by NewSTEPs Case Definitions (enter cases for the disorder/disorder group on the appropriate row; will be repeated or additional disorders) | D7: Definition: Number of infants born in the calendar year birth cohort who are known to have the condition; include cases missed on newborn screening that are known to the program | E7: Definition: Children who are known to not be followed in the program's jurisdiction due to an event (moving, death) in a prior year | F7: Reporting year | G7: Age range as of 12/31 in the evaluation year (range provided as a reminder of ages of children in this birth cohort) | H7: Definition: Number of Deaths that occurred in reporting year among the birth cohort | I7: Definition: Number of children that were recorded to have moved out of state and are no longer being followed by clinical specialists in the state. | J7: QC Check | M7: Definition: number of children who have had at least one contact with specialist (in person, telehealth) | O7: Definition: number of children seeing the appropriate specialist on the recommended cadence for care within the state/jurisdiction. (e.g. quarterly visits for children with Cystic fibrosis); in some states it may also include labs or procedures
B9: 2018 | C9: Metabolic Conditions | D9: =#REF!+#REF!+#REF!+'State 1'!D7+#REF!+#REF! -> #REF! | E9: =#REF!+#REF!+#REF!+'State 1'!E7+#REF!+#REF! -> #REF! | F9: 2022 | G9: 3 years - < 4 years | J9: =(D9-E9)=K9 -> #REF! | K9: =#REF!+#REF!+#REF!+'State 1'!J7+#REF!+#REF! -> #REF! | L9: =K9/D9 -> #REF! | M9: =#REF!+#REF!+#REF!+'State 1'!K7+#REF!+#REF! -> #REF! | N9: =M9/K9 -> #REF! | O9: =#REF!+#REF!+#REF!+'State 1'!L7+#REF!+#REF! -> #REF! | P9: =O9/K9 -> #REF!
B10: 2019 | C10: Metabolic Conditions | D10: =#REF!+#REF!+#REF!+'State 1'!D8+#REF!+#REF! -> #REF! | E10: =#REF!+#REF!+#REF!+'State 1'!E8+#REF!+#REF! -> #REF! | F10: 2022 | G10: 2 years - <3 years | J10: =(D10-E10)=K10 -> #REF! | K10: =#REF!+#REF!+#REF!+'State 1'!J8+#REF!+#REF! -> #REF! | L10: =K10/D10 -> #REF! | M10: =#REF!+#REF!+#REF!+'State 1'!K8+#REF!+#REF! -> #REF! | N10: =M10/K10 -> #REF! | O10: =#REF!+#REF!+#REF!+'State 1'!L8+#REF!+#REF! -> #REF! | P10: =O10/K10 -> #REF!
B11: 2020 | C11: Metabolic Conditions | D11: =#REF!+#REF!+#REF!+'State 1'!D9+#REF!+#REF! -> #REF! | E11: =#REF!+#REF!+#REF!+'State 1'!E9+#REF!+#REF! -> #REF! | F11: 2022 | G11: 1 year - <2 years | J11: =(D11-E11)=K11 -> #REF! | K11: =#REF!+#REF!+#REF!+'State 1'!J9+#REF!+#REF! -> #REF! | L11: =K11/D11 -> #REF! | M11: =#REF!+#REF!+#REF!+'State 1'!K9+#REF!+#REF! -> #REF! | N11: =M11/K11 -> #REF! | O11: =#REF!+#REF!+#REF!+'State 1'!L9+#REF!+#REF! -> #REF! | P11: =O11/K11 -> #REF!
B12: 2021 | C12: Metabolic Conditions | D12: =#REF!+#REF!+#REF!+'State 1'!D10+#REF!+#REF! -> #REF! | E12: =#REF!+#REF!+#REF!+'State 1'!E10+#REF!+#REF! -> #REF! | F12: 2022 | G12: 1 year - <2 years | J12: =(D12-E12)=K12 -> #REF! | K12: =#REF!+#REF!+#REF!+'State 1'!J10+#REF!+#REF! -> #REF! | L12: =K12/D12 -> #REF! | M12: =#REF!+#REF!+#REF!+'State 1'!K10+#REF!+#REF! -> #REF! | N12: =M12/K12 -> #REF! | O12: =#REF!+#REF!+#REF!+'State 1'!L10+#REF!+#REF! -> #REF! | P12: =O12/K12 -> #REF!
B13: 2022 | C13: Metabolic Conditions | D13: =#REF!+#REF!+#REF!+'State 1'!D11+#REF!+#REF! -> #REF! | E13: =#REF!+#REF!+#REF!+'State 1'!E11+#REF!+#REF! -> #REF! | F13: 2022 | G13: <1 year | J13: =(D13-E13)=K13 -> #REF! | K13: =#REF!+#REF!+#REF!+'State 1'!J11+#REF!+#REF! -> #REF! | L13: =K13/D13 -> #REF! | M13: =#REF!+#REF!+#REF!+'State 1'!K11+#REF!+#REF! -> #REF! | N13: =M13/K13 -> #REF! | O13: =#REF!+#REF!+#REF!+'State 1'!L11+#REF!+#REF! -> #REF! | P13: =O13/K13 -> #REF!
B15: 2018 | C15: Congenital Adrenal Hyperplasia | D15: =#REF!+#REF!+#REF!+'State 1'!#REF!+#REF!+#REF! -> #REF! | E15: =#REF!+#REF!+#REF!+'State 1'!E13+#REF!+#REF! -> #REF! | F15: 2022 | G15: 3 years - < 4 years | J15: =(D15-E15)=K15 -> #REF! | K15: =#REF!+#REF!+#REF!+'State 1'!J13+#REF!+#REF! -> #REF! | L15: =K15/D15 -> #REF! | M15: =#REF!+#REF!+#REF!+'State 1'!K13+#REF!+#REF! -> #REF! | N15: =M15/K15 -> #REF! | O15: =#REF!+#REF!+#REF!+'State 1'!L13+#REF!+#REF! -> #REF! | P15: =O15/K15 -> #REF!
B16: 2019 | C16: Congenital Adrenal Hyperplasia | D16: =#REF!+#REF!+#REF!+'State 1'!D14+#REF!+#REF! -> #REF! | E16: =#REF!+#REF!+#REF!+'State 1'!E14+#REF!+#REF! -> #REF! | F16: 2022 | G16: 2 years - <3 years | J16: =(D16-E16)=K16 -> #REF! | K16: =#REF!+#REF!+#REF!+'State 1'!J14+#REF!+#REF! -> #REF! | L16: =K16/D16 -> #REF! | M16: =#REF!+#REF!+#REF!+'State 1'!K14+#REF!+#REF! -> #REF! | N16: =M16/K16 -> #REF! | O16: =#REF!+#REF!+#REF!+'State 1'!L14+#REF!+#REF! -> #REF! | P16: =O16/K16 -> #REF!
B17: 2020 | C17: Congenital Adrenal Hyperplasia | D17: =#REF!+#REF!+#REF!+'State 1'!D15+#REF!+#REF! -> #REF! | E17: =#REF!+#REF!+#REF!+'State 1'!E15+#REF!+#REF! -> #REF! | F17: 2022 | G17: 1 year - <2 years | J17: =(D17-E17)=K17 -> #REF! | K17: =#REF!+#REF!+#REF!+'State 1'!J15+#REF!+#REF! -> #REF! | L17: =K17/D17 -> #REF! | M17: =#REF!+#REF!+#REF!+'State 1'!K15+#REF!+#REF! -> #REF! | N17: =M17/K17 -> #REF! | O17: =#REF!+#REF!+#REF!+'State 1'!L15+#REF!+#REF! -> #REF! | P17: =O17/K17 -> #REF!
B18: 2021 | C18: Congenital Adrenal Hyperplasia | D18: =#REF!+#REF!+#REF!+'State 1'!D16+#REF!+#REF! -> #REF! | E18: =#REF!+#REF!+#REF!+'State 1'!E16+#REF!+#REF! -> #REF! | F18: 2022 | G18: 1 year - <2 years | J18: =(D18-E18)=K18 -> #REF! | K18: =#REF!+#REF!+#REF!+'State 1'!J16+#REF!+#REF! -> #REF! | L18: =K18/D18 -> #REF! | M18: =#REF!+#REF!+#REF!+'State 1'!K16+#REF!+#REF! -> #REF! | N18: =M18/K18 -> #REF! | O18: =#REF!+#REF!+#REF!+'State 1'!L16+#REF!+#REF! -> #REF! | P18: =O18/K18 -> #REF!
B19: 2022 | C19: Congenital Adrenal Hyperplasia | D19: =#REF!+#REF!+#REF!+'State 1'!D17+#REF!+#REF! -> #REF! | E19: =#REF!+#REF!+#REF!+'State 1'!E17+#REF!+#REF! -> #REF! | F19: 2022 | G19: <1 year | J19: =(D19-E19)=K19 -> #REF! | K19: =#REF!+#REF!+#REF!+'State 1'!J17+#REF!+#REF! -> #REF! | L19: =K19/D19 -> #REF! | M19: =#REF!+#REF!+#REF!+'State 1'!K17+#REF!+#REF! -> #REF! | N19: =M19/K19 -> #REF! | O19: =#REF!+#REF!+#REF!+'State 1'!L17+#REF!+#REF! -> #REF! | P19: =O19/K19 -> #REF!
B21: 2018 | C21: Congential Hyperthyroidism | D21: =#REF!+#REF!+#REF!+'State 1'!D19+#REF!+#REF! -> #REF! | E21: =#REF!+#REF!+#REF!+'State 1'!E19+#REF!+#REF! -> #REF! | F21: 2022 | G21: 3 years - < 4 years | J21: =(D21-E21)=K21 -> #REF! | K21: =#REF!+#REF!+#REF!+'State 1'!J19+#REF!+#REF! -> #REF! | L21: =K21/D21 -> #REF! | M21: =#REF!+#REF!+#REF!+'State 1'!K19+#REF!+#REF! -> #REF! | O21: =#REF!+#REF!+#REF!+'State 1'!L19+#REF!+#REF! -> #REF!
B22: 2019 | C22: Congential Hyperthyroidism | D22: =#REF!+#REF!+#REF!+'State 1'!D20+#REF!+#REF! -> #REF! | E22: =#REF!+#REF!+#REF!+'State 1'!E20+#REF!+#REF! -> #REF! | F22: 2022 | G22: 2 years - <3 years | J22: =(D22-E22)=K22 -> #REF! | K22: =#REF!+#REF!+#REF!+'State 1'!J20+#REF!+#REF! -> #REF! | L22: =K22/D22 -> #REF! | M22: =#REF!+#REF!+#REF!+'State 1'!K20+#REF!+#REF! -> #REF! | N22: =M22/K22 -> #REF! | O22: =#REF!+#REF!+#REF!+'State 1'!L20+#REF!+#REF! -> #REF! | P22: =O22/K22 -> #REF!
B23: 2020 | C23: Congential Hyperthyroidism | D23: =#REF!+#REF!+#REF!+'State 1'!D21+#REF!+#REF! -> #REF! | E23: =#REF!+#REF!+#REF!+'State 1'!E21+#REF!+#REF! -> #REF! | F23: 2022 | G23: 1 year - <2 years | J23: =(D23-E23)=K23 -> #REF! | K23: =#REF!+#REF!+#REF!+'State 1'!J21+#REF!+#REF! -> #REF! | L23: =K23/D23 -> #REF! | M23: =#REF!+#REF!+#REF!+'State 1'!K21+#REF!+#REF! -> #REF! | N23: =M23/K23 -> #REF! | O23: =#REF!+#REF!+#REF!+'State 1'!L21+#REF!+#REF! -> #REF! | P23: =O23/K23 -> #REF!
B24: 2021 | C24: Congential Hyperthyroidism | D24: =#REF!+#REF!+#REF!+'State 1'!D22+#REF!+#REF! -> #REF! | E24: =#REF!+#REF!+#REF!+'State 1'!E22+#REF!+#REF! -> #REF! | F24: 2022 | G24: 1 year - <2 years | J24: =(D24-E24)=K24 -> #REF! | K24: =#REF!+#REF!+#REF!+'State 1'!J22+#REF!+#REF! -> #REF! | L24: =K24/D24 -> #REF! | M24: =#REF!+#REF!+#REF!+'State 1'!K22+#REF!+#REF! -> #REF! | N24: =M24/K24 -> #REF! | O24: =#REF!+#REF!+#REF!+'State 1'!L22+#REF!+#REF! -> #REF! | P24: =O24/K24 -> #REF!
B25: 2022 | C25: Congential Hyperthyroidism | D25: =#REF!+#REF!+#REF!+'State 1'!D23+#REF!+#REF! -> #REF! | E25: =#REF!+#REF!+#REF!+'State 1'!E23+#REF!+#REF! -> #REF! | F25: 2022 | G25: <1 year | J25: =(D25-E25)=K25 -> #REF! | K25: =#REF!+#REF!+#REF!+'State 1'!J23+#REF!+#REF! -> #REF! | L25: =K25/D25 -> #REF! | M25: =#REF!+#REF!+#REF!+'State 1'!K23+#REF!+#REF! -> #REF! | N25: =M25/K25 -> #REF! | O25: =#REF!+#REF!+#REF!+'State 1'!L23+#REF!+#REF! -> #REF! | P25: =O25/K25 -> #REF!
B27: 2018 | C27: Hemoglobinopathies | D27: =#REF!+#REF!+#REF!+'State 1'!D25+#REF!+#REF! -> #REF! | E27: =#REF!+#REF!+#REF!+'State 1'!E25+#REF!+#REF! -> #REF! | F27: 2022 | G27: 3 years - < 4 years | J27: =(D27-E27)=K27 -> #REF! | K27: =#REF!+#REF!+#REF!+'State 1'!J25+#REF!+#REF! -> #REF! | L27: =K27/D27 -> #REF! | M27: =#REF!+#REF!+#REF!+'State 1'!K25+#REF!+#REF! -> #REF! | N27: =M27/K27 -> #REF! | O27: =#REF!+#REF!+#REF!+'State 1'!L25+#REF!+#REF! -> #REF! | P27: =O27/K27 -> #REF!
B28: 2019 | C28: Hemoglobinopathies | D28: =#REF!+#REF!+#REF!+'State 1'!D26+#REF!+#REF! -> #REF! | E28: =#REF!+#REF!+#REF!+'State 1'!E26+#REF!+#REF! -> #REF! | F28: 2022 | G28: 2 years - <3 years | J28: =(D28-E28)=K28 -> #REF! | K28: =#REF!+#REF!+#REF!+'State 1'!J26+#REF!+#REF! -> #REF! | L28: =K28/D28 -> #REF! | M28: =#REF!+#REF!+#REF!+'State 1'!K26+#REF!+#REF! -> #REF! | N28: =M28/K28 -> #REF! | O28: =#REF!+#REF!+#REF!+'State 1'!L26+#REF!+#REF! -> #REF! | P28: =O28/K28 -> #REF!
B29: 2020 | C29: Hemoglobinopathies | D29: =#REF!+#REF!+#REF!+'State 1'!D27+#REF!+#REF! -> #REF! | E29: =#REF!+#REF!+#REF!+'State 1'!E27+#REF!+#REF! -> #REF! | F29: 2022 | G29: 1 year - <2 years | J29: =(D29-E29)=K29 -> #REF! | K29: =#REF!+#REF!+#REF!+'State 1'!J27+#REF!+#REF! -> #REF! | L29: =K29/D29 -> #REF! | M29: =#REF!+#REF!+#REF!+'State 1'!K27+#REF!+#REF! -> #REF! | N29: =M29/K29 -> #REF! | O29: =#REF!+#REF!+#REF!+'State 1'!L27+#REF!+#REF! -> #REF! | P29: =O29/K29 -> #REF!
B30: 2021 | C30: Hemoglobinopathies | D30: =#REF!+#REF!+#REF!+'State 1'!D28+#REF!+#REF! -> #REF! | E30: =#REF!+#REF!+#REF!+'State 1'!E28+#REF!+#REF! -> #REF! | F30: 2022 | G30: 1 year - <2 years | J30: =(D30-E30)=K30 -> #REF! | K30: =#REF!+#REF!+#REF!+'State 1'!J28+#REF!+#REF! -> #REF! | L30: =K30/D30 -> #REF! | M30: =#REF!+#REF!+#REF!+'State 1'!K28+#REF!+#REF! -> #REF! | N30: =M30/K30 -> #REF! | O30: =#REF!+#REF!+#REF!+'State 1'!L28+#REF!+#REF! -> #REF! | P30: =O30/K30 -> #REF!
B31: 2022 | C31: Hemoglobinopathies | D31: =#REF!+#REF!+#REF!+'State 1'!D29+#REF!+#REF! -> #REF! | E31: =#REF!+#REF!+#REF!+'State 1'!E29+#REF!+#REF! -> #REF! | F31: 2022 | G31: <1 year | J31: =(D31-E31)=K31 -> #REF! | K31: =#REF!+#REF!+#REF!+'State 1'!J29+#REF!+#REF! -> #REF! | L31: =K31/D31 -> #REF! | M31: =#REF!+#REF!+#REF!+'State 1'!K29+#REF!+#REF! -> #REF! | N31: =M31/K31 -> #REF! | O31: =#REF!+#REF!+#REF!+'State 1'!L29+#REF!+#REF! -> #REF! | P31: =O31/K31 -> #REF!
B33: 2018 | C33: Cystic Fibrosis | D33: =#REF!+#REF!+#REF!+'State 1'!D31+#REF!+#REF! -> #REF! | E33: =#REF!+#REF!+#REF!+'State 1'!E31+#REF!+#REF! -> #REF! | F33: 2022 | G33: 3 years - < 4 years | J33: =(D33-E33)=K33 -> #REF! | K33: =#REF!+#REF!+#REF!+'State 1'!J31+#REF!+#REF! -> #REF! | L33: =K33/D33 -> #REF! | M33: =#REF!+#REF!+#REF!+'State 1'!K31+#REF!+#REF! -> #REF! | N33: =M33/K33 -> #REF! | O33: =#REF!+#REF!+#REF!+'State 1'!L31+#REF!+#REF! -> #REF! | P33: =O33/K33 -> #REF!
B34: 2019 | C34: Cystic Fibrosis | D34: =#REF!+#REF!+#REF!+'State 1'!D32+#REF!+#REF! -> #REF! | E34: =#REF!+#REF!+#REF!+'State 1'!E32+#REF!+#REF! -> #REF! | F34: 2022 | G34: 2 years - <3 years | J34: =(D34-E34)=K34 -> #REF! | K34: =#REF!+#REF!+#REF!+'State 1'!J32+#REF!+#REF! -> #REF! | L34: =K34/D34 -> #REF! | M34: =#REF!+#REF!+#REF!+'State 1'!K32+#REF!+#REF! -> #REF! | N34: =M34/K34 -> #REF! | O34: =#REF!+#REF!+#REF!+'State 1'!L32+#REF!+#REF! -> #REF! | P34: =O34/K34 -> #REF!
B35: 2020 | C35: Cystic Fibrosis | D35: =#REF!+#REF!+#REF!+'State 1'!D33+#REF!+#REF! -> #REF! | E35: =#REF!+#REF!+#REF!+'State 1'!E33+#REF!+#REF! -> #REF! | F35: 2022 | G35: 1 year - <2 years | J35: =(D35-E35)=K35 -> #REF! | K35: =#REF!+#REF!+#REF!+'State 1'!J33+#REF!+#REF! -> #REF! | L35: =K35/D35 -> #REF! | M35: =#REF!+#REF!+#REF!+'State 1'!K33+#REF!+#REF! -> #REF! | N35: =M35/K35 -> #REF! | O35: =#REF!+#REF!+#REF!+'State 1'!L33+#REF!+#REF! -> #REF! | P35: =O35/K35 -> #REF!
... B43: 2022 | C43: SCID | D43: =#REF!+#REF!+#REF!+'State 1'!D41+#REF!+#REF! -> #REF! | E43: =#REF!+#REF!+#REF!+'State 1'!E41+#REF!+#REF! -> #REF! | F43: 2022 | G43: <1 year | J43: =(D43-E43)=K43 -> #REF! | K43: =#REF!+#REF!+#REF!+'State 1'!J41+#REF!+#REF! -> #REF! | L43: =K43/D43 -> #REF! | M43: =#REF!+#REF!+#REF!+'State 1'!K41+#REF!+#REF! -> #REF! | N43: =M43/K43 -> #REF! | O43: =#REF!+#REF!+#REF!+'State 1'!L41+#REF!+#REF! -> #REF! | P43: =O43/K43 -> #REF!
B45: 2018 | C45: SMA | D45: =#REF!+#REF!+#REF!+'State 1'!D43+#REF!+#REF! -> #REF! | E45: =#REF!+#REF!+#REF!+'State 1'!E43+#REF!+#REF! -> #REF! | J45: =(D45-E45)=K45 -> #REF! | K45: =#REF!+#REF!+#REF!+'State 1'!J43+#REF!+#REF! -> #REF! | L45: =K45/D45 -> #REF! | M45: =#REF!+#REF!+#REF!+'State 1'!K43+#REF!+#REF! -> #REF! | N45: =M45/K45 -> #REF! | O45: =#REF!+#REF!+#REF!+'State 1'!L43+#REF!+#REF! -> #REF! | P45: =O45/K45 -> #REF!
B46: 2019 | C46: SMA | D46: =#REF!+#REF!+#REF!+'State 1'!D44+#REF!+#REF! -> #REF! | E46: =#REF!+#REF!+#REF!+'State 1'!E44+#REF!+#REF! -> #REF! | J46: =(D46-E46)=K46 -> #REF! | K46: =#REF!+#REF!+#REF!+'State 1'!J44+#REF!+#REF! -> #REF! | L46: =K46/D46 -> #REF! | M46: =#REF!+#REF!+#REF!+'State 1'!K44+#REF!+#REF! -> #REF! | N46: =M46/K46 -> #REF! | O46: =#REF!+#REF!+#REF!+'State 1'!L44+#REF!+#REF! -> #REF! | P46: =O46/K46 -> #REF!
B47: 2020 | C47: SMA | D47: =#REF!+#REF!+#REF!+'State 1'!D45+#REF!+#REF! -> #REF! | E47: =#REF!+#REF!+#REF!+'State 1'!E45+#REF!+#REF! -> #REF! | J47: =(D47-E47)=K47 -> #REF! | K47: =#REF!+#REF!+#REF!+'State 1'!J45+#REF!+#REF! -> #REF! | L47: =K47/D47 -> #REF! | M47: =#REF!+#REF!+#REF!+'State 1'!K45+#REF!+#REF! -> #REF! | N47: =M47/K47 -> #REF! | O47: =#REF!+#REF!+#REF!+'State 1'!L45+#REF!+#REF! -> #REF! | P47: =O47/K47 -> #REF!
B48: 2021 | C48: SMA | D48: =#REF!+#REF!+#REF!+'State 1'!D46+#REF!+#REF! -> #REF! | E48: =#REF!+#REF!+#REF!+'State 1'!E46+#REF!+#REF! -> #REF! | J48: =(D48-E48)=K48 -> #REF! | K48: =#REF!+#REF!+#REF!+'State 1'!J46+#REF!+#REF! -> #REF! | L48: =K48/D48 -> #REF! | M48: =#REF!+#REF!+#REF!+'State 1'!K46+#REF!+#REF! -> #REF! | N48: =M48/K48 -> #REF! | O48: =#REF!+#REF!+#REF!+'State 1'!L46+#REF!+#REF! -> #REF! | P48: =O48/K48 -> #REF!
B49: 2022 | C49: SMA | D49: =#REF!+#REF!+#REF!+'State 1'!D47+#REF!+#REF! -> #REF! | E49: =#REF!+#REF!+#REF!+'State 1'!E47+#REF!+#REF! -> #REF! | J49: =(D49-E49)=K49 -> #REF! | K49: =#REF!+#REF!+#REF!+'State 1'!J47+#REF!+#REF! -> #REF! | L49: =K49/D49 -> #REF! | M49: =#REF!+#REF!+#REF!+'State 1'!K47+#REF!+#REF! -> #REF! | N49: =M49/K49 -> #REF! | O49: =#REF!+#REF!+#REF!+'State 1'!L47+#REF!+#REF! -> #REF! | P49: =O49/K49 -> #REF!
B51: 2018 | C51: X ALD | F51: 2022 | G51: 3 years - < 4 years
B52: 2019 | C52: X ALD | F52: 2022 | G52: 2 years - <3 years
B53: 2020 | C53: X ALD | F53: 2022 | G53: 1 year - <2 years
B54: 2021 | C54: X ALD | F54: 2022 | G54: 1 year - <2 years
B55: 2022 | C55: X ALD | F55: 2022 | G55: <1 year
B57: 2018 | F57: 2022 | G57: 3 years - < 4 years
B58: 2019 | F58: 2022 | G58: 2 years - <3 years
B59: 2020 | F59: 2022 | G59: 1 year - <2 years
B60: 2021 | F60: 2022 | G60: 1 year - <2 years
B61: 2022 | F61: 2022 | G61: <1 year
B65: 2018 | C65: TCL | D65: =#REF! -> #REF! | E65: =#REF! -> #REF! | J65: =(D65-E65)=K65 -> #REF! | K65: =#REF! -> #REF! | L65: =K65/D65 -> #REF! | M65: =#REF! -> #REF! | N65: =M65/K65 -> #REF! | O65: =#REF! -> #REF! | P65: =O65/K65 -> #REF!
B66: 2019 | C66: TCL | D66: =#REF! -> #REF! | E66: =#REF! -> #REF! | J66: =(D66-E66)=K66 -> #REF! | K66: =#REF! -> #REF! | L66: =K66/D66 -> #REF! | M66: =#REF! -> #REF! | N66: =M66/K66 -> #REF! | O66: =#REF! -> #REF! | P66: =O66/K66 -> #REF!
B67: 2020 | C67: TCL | D67: =#REF! -> #REF! | E67: =#REF! -> #REF! | J67: =(D67-E67)=K67 -> #REF! | K67: =#REF! -> #REF! | L67: =K67/D67 -> #REF! | M67: =#REF! -> #REF! | N67: =M67/K67 -> #REF! | O67: =#REF! -> #REF! | P67: =O67/K67 -> #REF!
B68: 2021 | C68: TCL | D68: =#REF! -> #REF! | E68: =#REF! -> #REF! | J68: =(D68-E68)=K68 -> #REF! | K68: =#REF! -> #REF! | L68: =K68/D68 -> #REF! | M68: =#REF! -> #REF! | N68: =M68/K68 -> #REF! | O68: =#REF! -> #REF! | P68: =O68/K68 -> #REF!
B69: 2022 | C69: TCL | D69: =#REF! -> #REF! | E69: =#REF! -> #REF! | J69: =(D69-E69)=K69 -> #REF! | K69: =#REF! -> #REF! | L69: =K69/D69 -> #REF! | M69: =#REF! -> #REF! | N69: =M69/K69 -> #REF! | O69: =#REF! -> #REF! | P69: =O69/K69 -> #REF!

Sheet Mult. year - Data to Submit
B1: Defining the cohort | G1: Intervention | L1: Question 3: Child's LTFU Status (Active, Moved, Lost, Deceased) | V1: Question 4Receiving Appropriate Care
D2: Question 1 | G2: Question 2: Age of first documented contact with appropriate care team/age of first intervention (NewSTEPs) | L2: Question 3a: Deaths during calendar year | N2: Question 3b: Moved | O2: Question 3c: Status of Infants Living in Jurisdiction | S2: Question 3d - Lost to follow-up | T2: Question 3e - not receiving LTFU care | U2: Question 3f - Actively engaged | V2: Question 4a - Seeing a specialist | W2: Question 4b - Followed by PCP | X2: Question 4c - Followed by both PCP and Specialist
B3: (Q1a) | C3: (Q1b) | D3: (Q1c) | E3: (Q1d) | F3: (Q1e) | G3: (Q2a) | H3: (Q2b) | I3: (Q2c) | J3: (Q2d) | K3: (Q2e) | L3: (Q3a.1) | M3: (Q3a.2) | N3: (Q3b) | O3: (Q3c.1) | P3: (Q3c.2) | Q3: (Q3c.3) | R3: (Q3c.4) | S3: (Q3d) | T3: (Q3e) | U3: (Q3f) | V3: (Q4a) | W3: (Q4b) | X3: (Q4c)
B4: Birth Cohort | C4: Confirmed Diagnosis/ Disorder Category (Repeated for additional disorder groups ) | D4: Question 1: N (Number of births in cohort with disorder) | E4: Calendar Year | F4: Age during calendar year | G4: N | H4: Mean | I4: Std. Dev. | J4: Median | K4: Q1, Q3 | L4: Number (%) known to have died in reporting year | M4: Number (%) known to have died due to disorder in reporting year | N4: Number (%) known to have moved out of state during Calendar Year | O4: Number (%) alive and known to be currently living in state | P4: Number (%) receiving appropriate care (meeting condition-specific recommendations for care) in Calendar Year | Q4: Number (%) not receiving condition-specific appropriate LTFU | R4: Number (%) not receiving care (not receiving care by specialist or recommended care provider) | S4: Number (%) lost to follow-up (status is not known) | T4: Number (%) not receiving LTFU Care | U4: Number (%) actively followed in LTFU (for programs with an opt-in program) | V4: Number (%) seen by a care team appropriate for the condition within the past 12 months: Specialist Only | W4: Number( %) seen by a care team appropriate for the condition within the past 12 months: PCP Only | X4: Number( %) seen by a care team appropriate for the condition within the past 12 months: Specialist AND PCP
B5: Calendar year for related data | C5: Diagnosis as determined by NewSTEPs Case Definitions (enter cases for the disorder/disorder group on the appropriate row; will be repeated or additional disorders) | D5: Definition: Number of infants born in the calendar year birth cohort who are known to have the condition; include cases missed on newborn screening that are known to the program | E5: Reporting year | F5: Age range as of 12/31 in the evaluation year (range provided as a reminder of ages of children in this birth cohort) | G5: Definition: The number of children with data reported for the age at first documented contact (in days) per the NewSTEPs definition (the values should match across systems) | H5: Definition: Mean | I5: Definition: Std. Dev. | J5: Definition: Median | K5: Definition: First Quartile (25th percentile) and Third Quartile (75th percentile) | L5: Definition: Number of Deaths that occurred in reporting year among the birth cohort | M5: Definition: Number of Deaths that occurred in reporting year among the birth cohort, that was due to the underlying NBS disorder | N5: Definition: Number of children that were recorded to have moved out of state and are no longer being followed by clinical specialists in the state. | O5: Note: should be equal to sum of Q3c.2, Q3c.3, Q3c,4. (could be a calculated field?) | P5: Definition: number of children seeing the appropriate specialist on the recommended cadence for care within the state/jurisdiction. (e.g. quarterly visits for children with Cystic fibrosis); in some states it may also include labs or procedures | Q5: Definition: Number of children that are not meeting the recommendations within the state/jurisdiction. they may be seeing clinician, but not meeting recommended guidelines for appropriate care | R5: Definition: Number of children that are known to be living in the state, but they are not receiving ANY care by the specialists/recommended care provider | S5: Definition: Number of children whose status is unknown. No confirmation of the death of a child or the child moving out of state, but also no record of the child being seen (in any system investigated) | T5: Definition: Sum of those lost to follow-up and those not receiving care by specialist | U5: Definition: This will likely be used by programs that require active participation in LTFU system (vs. surveillance-type system) | V5: Definition: number of children who have had at least one contact with specialist (in person, telehealth) | W5: (where available - and when care may be managed by PCP (e.g. Congenital Hypothyroidism) | X5: (where available - and when care may be managed by PCP (e.g. Congenital Hypothyroidism)
B6: 2018 | C6: Sickle Cell * | E6: 2018 | F6: <1 year
C7: Sickle Cell | E7: 2019 | F7: 1 year - <2 years
C8: Sickle Cell | E8: 2020 | F8: 2 years - <3 years
C9: Sickle Cell | E9: 2021 | F9: 3 years - < 4 years
C10: Sickle Cell | E10: 2022 | F10: 4 years - < 5 years
B11: 2019 | C11: Sickle Cell | E11: 2019 | F11: <1 year
C12: Sickle Cell | E12: 2020 | F12: 1 year - <2 years
C13: Sickle Cell | E13: 2021 | F13: 2 years - <3 years
C14: Sickle Cell | E14: 2022 | F14: 3 years - < 4 years
B15: 2020 | C15: Sickle Cell | E15: 2020 | F15: <1 year
C16: Sickle Cell | E16: 2021 | F16: 1 year - <2 years
C17: Sickle Cell | E17: 2022 | F17: 2 years - <3 years
B18: 2021 | C18: Sickle Cell | E18: 2021 | F18: <1 year
C19: Sickle Cell | E19: 2022 | F19: 1 year - <2 years
B20: 2022 | C20: Sickle Cell | E20: 2022 | F20: <1 year

Sheet TO BE DEVELOPED
H1: Example of poitential data collection sheet that could be used by state programs (not sure if necessary?)
C2: Disorder | F2: Age/date of first documented contact with appropriate care team/age of first intervention (NewSTEPs) | H2: Has a child been seen by a care team approriate for the condition within the past 12 months | J2: Current Follow-up status
B3: Patient ID | C3: Suspected condition (out of range NBS result suggested condition - drop down list) | D3: Confirmed Condition/Diagnosis (drop down list) | E3: Updated Diagnosis (Drop down list | F3: Date | G3: Age (Days) | H3: Seen by specialist (yes/no) | I3: Seen by PCP as the appropriate provider for the disorder (yes/no) | J3: Is the child deceased Yes/No/Unknown | K3: If child has died, was it due to complications of disorder? | L3: Has child moved out of state (yes/no/unknown) | M3: Refused Follow-up/not receiving follow-up care | N3: Withdrew from LTFU program/ registry
